BEGIN:VCALENDAR
VERSION:2.0
PRODID:-//Tukios.com/
BEGIN:VEVENT
UID:67efa8fd-761c-4d92-b82c-62708801e788@www.siplerfuneralhome.com
DTSTAMP:20260422T204021Z
DTSTART:20260613T150000Z
DTEND:20260613T160000Z
SUMMARY:Memorial Service
DESCRIPTION:
URL:https://www.siplerfuneralhome.com/obituaries/charles-wolf
LOCATION:Gamber Auditorium in the VIVA Center 1001 East Oregon Road  
	Lititz PA 17543
GEO:40.1114097;-76.2690639
END:VEVENT
END:VCALENDAR