BEGIN:VCALENDAR
VERSION:2.0
PRODID:-//Tukios.com/
BEGIN:VEVENT
UID:3a331086-893c-40ac-9ea5-10c25a3bafaa@www.siplerfuneralhome.com
DTSTAMP:20260424T174752Z
DTSTART:20260509T140000Z
DTEND:20260509T150000Z
SUMMARY:Visitation
DESCRIPTION:
URL:https://www.siplerfuneralhome.com/obituaries/janet-wiest
LOCATION:Holy Trinity Lutheran Church 167 E Main St  Ephrata PA 17522
GEO:40.1759681;-76.1744342
END:VEVENT
END:VCALENDAR