BEGIN:VCALENDAR
VERSION:2.0
PRODID:-//Tukios.com/
BEGIN:VEVENT
UID:6eecb1d3-0376-4e09-9fb2-8b89a5026c5d@www.siplerfuneralhome.com
DTSTAMP:20260424T175229Z
DTSTART:20260509T150000Z
DTEND:20260509T160000Z
SUMMARY:Celebration of Life
DESCRIPTION:
URL:https://www.siplerfuneralhome.com/obituaries/janet-wiest
LOCATION: 167 E Main St  Ephrata PA 17522
GEO:40.1759681;-76.1744342
END:VEVENT
END:VCALENDAR